BEGIN:VCALENDAR

VERSION:2.0

PRODID:-//hacksw/handcal//NONSGML v1.0//EN

CALSCALE:GREGORIAN

BEGIN:VEVENT

DTEND:20230911T190000Z

UID:20230911T180000Z-51@mypartyinvite.com

DTSTAMP:20260425T143452Z

DESCRIPTION:Event info: https://mypartyinvite.com/rsvpmaker/test/

URL;VALUE=URI:https://mypartyinvite.com/rsvpmaker/test/

SUMMARY:Test

DTSTART:20230911T180000Z

ORGANIZER;CN=mypartyinvite.com:MAILTO:mathursoniya@gmail.com

END:VEVENT

END:VCALENDAR

